BEGIN:VCALENDAR
VERSION:2.0
PRODID:-//Historic Richmond - ECPv6.15.20//NONSGML v1.0//EN
CALSCALE:GREGORIAN
METHOD:PUBLISH
X-ORIGINAL-URL:https://historicrichmond.com
X-WR-CALDESC:Events for Historic Richmond
REFRESH-INTERVAL;VALUE=DURATION:PT1H
X-Robots-Tag:noindex
X-PUBLISHED-TTL:PT1H
BEGIN:VTIMEZONE
TZID:America/New_York
BEGIN:DAYLIGHT
TZOFFSETFROM:-0500
TZOFFSETTO:-0400
TZNAME:EDT
DTSTART:20240310T070000
END:DAYLIGHT
BEGIN:STANDARD
TZOFFSETFROM:-0400
TZOFFSETTO:-0500
TZNAME:EST
DTSTART:20241103T060000
END:STANDARD
BEGIN:DAYLIGHT
TZOFFSETFROM:-0500
TZOFFSETTO:-0400
TZNAME:EDT
DTSTART:20250309T070000
END:DAYLIGHT
BEGIN:STANDARD
TZOFFSETFROM:-0400
TZOFFSETTO:-0500
TZNAME:EST
DTSTART:20251102T060000
END:STANDARD
BEGIN:DAYLIGHT
TZOFFSETFROM:-0500
TZOFFSETTO:-0400
TZNAME:EDT
DTSTART:20260308T070000
END:DAYLIGHT
BEGIN:STANDARD
TZOFFSETFROM:-0400
TZOFFSETTO:-0500
TZNAME:EST
DTSTART:20261101T060000
END:STANDARD
END:VTIMEZONE
BEGIN:VEVENT
DTSTART;TZID=America/New_York:20250717T180000
DTEND;TZID=America/New_York:20250717T200000
DTSTAMP:20260421T192648
CREATED:20250407T195807Z
LAST-MODIFIED:20250407T200553Z
UID:56638-1752775200-1752782400@historicrichmond.com
SUMMARY:Mutual on Main
DESCRIPTION:Address – 909 E Main St. \n\n\n\nConstructed in 1904 as office space for the Mutual Assurance Society\, the Mutual Building was designed by Clinton & Russell\, a prominent New York architectural firm. Originally lower\, the top four terra cotta-clad floors were added nearly a decade after it was first built. A 2024 Golden Hammer Award winning adaptive reuse project has transformed this stunning high-rise office building into luxury apartments. \n\n\n\nJoin us as the Mutual on Main project team walks us through this beautiful office-to-housing conversion. Significant collaboration was required between the contractor and the design team to address the challenges of the Metropolitan Floor System\, a challenge that has stymied other adaptive reuse projects in town. We hope that this will be one of many similar transformations in the future\, as we fight to reinvigorate our beautiful historic downtown! \n\n\n\nTickets: Join us for the Quoit Club season! Or click below to purchase a single ticket. \n\n\n\nRSVP: Reminder\, we no longer ask members to RSVP!
URL:https://historicrichmond.com/detail/mutual-on-main/
CATEGORIES:Quoit Club
ATTACH;FMTTYPE=image/png:https://historicrichmond.com/wp-content/uploads/2025/02/3-2.png
END:VEVENT
END:VCALENDAR