BEGIN:VCALENDAR
VERSION:2.0
PRODID:-//Historic Richmond - ECPv6.15.20//NONSGML v1.0//EN
CALSCALE:GREGORIAN
METHOD:PUBLISH
X-WR-CALNAME:Historic Richmond
X-ORIGINAL-URL:https://historicrichmond.com
X-WR-CALDESC:Events for Historic Richmond
REFRESH-INTERVAL;VALUE=DURATION:PT1H
X-Robots-Tag:noindex
X-PUBLISHED-TTL:PT1H
BEGIN:VTIMEZONE
TZID:America/New_York
BEGIN:DAYLIGHT
TZOFFSETFROM:-0500
TZOFFSETTO:-0400
TZNAME:EDT
DTSTART:20240310T070000
END:DAYLIGHT
BEGIN:STANDARD
TZOFFSETFROM:-0400
TZOFFSETTO:-0500
TZNAME:EST
DTSTART:20241103T060000
END:STANDARD
BEGIN:DAYLIGHT
TZOFFSETFROM:-0500
TZOFFSETTO:-0400
TZNAME:EDT
DTSTART:20250309T070000
END:DAYLIGHT
BEGIN:STANDARD
TZOFFSETFROM:-0400
TZOFFSETTO:-0500
TZNAME:EST
DTSTART:20251102T060000
END:STANDARD
BEGIN:DAYLIGHT
TZOFFSETFROM:-0500
TZOFFSETTO:-0400
TZNAME:EDT
DTSTART:20260308T070000
END:DAYLIGHT
BEGIN:STANDARD
TZOFFSETFROM:-0400
TZOFFSETTO:-0500
TZNAME:EST
DTSTART:20261101T060000
END:STANDARD
END:VTIMEZONE
BEGIN:VEVENT
DTSTART;TZID=America/New_York:20251016T163000
DTEND;TZID=America/New_York:20251016T193000
DTSTAMP:20260421T134403
CREATED:20250805T141107Z
LAST-MODIFIED:20251015T193811Z
UID:57034-1760632200-1760643000@historicrichmond.com
SUMMARY:Architecture is Art Home Tour
DESCRIPTION:Architecture is Art Home Tour in historic Woodland Heights\n\n\n\nThursday\, October 16\, 2025 \n\n\n\n4:30 or 6:00 PM \n\n\n\nPrivate Residence in Woodland Heights (Address provided to registered guests) \n\n\n\n\nPurchase Tickets for the 4:30 PM tour here. (SOLD OUT)\n\n\n\n\n \n\n\n\n\nPurchase Tickets for the 6:00 PM tour here. (SOLD OUT)\n\n\n\n\n \n\n\n\nJoin Historic Richmond as we tour one remarkable home in Richmond’s historic Woodland Heights neighborhood where architecture and art converge in the hands of two preservation and design experts. \n\n\n\nThis 1895 raised cottage is the long-term project of Mimi Sadler and Camden Whitehead\, founders of Sadler & Whitehead Architects. Using Virginia’s historic rehabilitation tax credits\, they spent a decade restoring and reimagining a home that seamlessly blends past and present with art and architecture. Intact original spaces retain their 19th-century charm\, while salvaged materials\, clean lines\, and warm wood finishes define the much-altered rear of the house. Filling the house is their impressive collection of local art and furniture. The result is a deeply personal\, artful expression of adaptive reuse — where every detail reflects the couple’s belief that contemporary design and historic preservation can go hand-in-hand. \n\n\n\nGuests will reserve a tour time below and are invited to stay afterward for drinks\, light bites\, and conversation in the garden. There’s no better place to spend a fall afternoon than in one of Richmond’s historic neighborhoods! \n\n\n\nRegistrants will receive the address and additional details in your ticket confirmation email. To ensure the best experience for all our guests\, we kindly ask that you attend the tour time selected at the time of booking.
URL:https://historicrichmond.com/detail/architecture-is-art-home-tour/
ATTACH;FMTTYPE=image/jpeg:https://historicrichmond.com/wp-content/uploads/2025/08/mimi-and-camden-house-scaled.jpeg
END:VEVENT
END:VCALENDAR