BEGIN:VCALENDAR
VERSION:2.0
PRODID:-//Historic Richmond - ECPv6.15.20//NONSGML v1.0//EN
CALSCALE:GREGORIAN
METHOD:PUBLISH
X-WR-CALNAME:Historic Richmond
X-ORIGINAL-URL:https://historicrichmond.com
X-WR-CALDESC:Events for Historic Richmond
REFRESH-INTERVAL;VALUE=DURATION:PT1H
X-Robots-Tag:noindex
X-PUBLISHED-TTL:PT1H
BEGIN:VTIMEZONE
TZID:America/New_York
BEGIN:DAYLIGHT
TZOFFSETFROM:-0500
TZOFFSETTO:-0400
TZNAME:EDT
DTSTART:20250309T070000
END:DAYLIGHT
BEGIN:STANDARD
TZOFFSETFROM:-0400
TZOFFSETTO:-0500
TZNAME:EST
DTSTART:20251102T060000
END:STANDARD
BEGIN:DAYLIGHT
TZOFFSETFROM:-0500
TZOFFSETTO:-0400
TZNAME:EDT
DTSTART:20260308T070000
END:DAYLIGHT
BEGIN:STANDARD
TZOFFSETFROM:-0400
TZOFFSETTO:-0500
TZNAME:EST
DTSTART:20261101T060000
END:STANDARD
BEGIN:DAYLIGHT
TZOFFSETFROM:-0500
TZOFFSETTO:-0400
TZNAME:EDT
DTSTART:20270314T070000
END:DAYLIGHT
BEGIN:STANDARD
TZOFFSETFROM:-0400
TZOFFSETTO:-0500
TZNAME:EST
DTSTART:20271107T060000
END:STANDARD
END:VTIMEZONE
BEGIN:VEVENT
DTSTART;TZID=America/New_York:20260716T180000
DTEND;TZID=America/New_York:20260716T200000
DTSTAMP:20260421T131951
CREATED:20260310T160601Z
LAST-MODIFIED:20260331T144930Z
UID:57367-1784224800-1784232000@historicrichmond.com
SUMMARY:Tilt Creative + Production
DESCRIPTION:Thursday\, July 16\, 6:00-8:00p.m. \n\n\n\nAddress – 23 S 13th Street\, Shockoe Slip Old & Historic District \n\n\n\nJoin us as we tour the Golden Hammer Awards winner for Downtown Dynamism. Originally built as three buildings dating from 1874 and 1875\, it served as a tannery shop\, letter shop\, and dry goods store. The building is now owned by Tilt Creative + Production\, a minority-and-women-owned creative agency.  Tilt’s renovation of a Reconstruction-era building in Shockoe Slip is a tribute to the city’s resilience and transformation. The project embodies the spirit of resistance and progress\, blending Richmond’s history with its future through thoughtful design and creative adaptation. \n\n\n\nParking: There are multiple parking lots downtown\, as well as street parking. View an interactive map of public parking details here. \n\n\n\n\nPurchase Ticket Here\n\n\n\n\n\n\n\n\nOur 2026 Quoit Club season is generously sponsored by:
URL:https://historicrichmond.com/detail/tilt-creative-production/
ATTACH;FMTTYPE=image/png:https://historicrichmond.com/wp-content/uploads/2026/02/1-scaled.png
END:VEVENT
END:VCALENDAR