BEGIN:VCALENDAR
VERSION:2.0
PRODID:-//Historic Richmond - ECPv6.15.20//NONSGML v1.0//EN
CALSCALE:GREGORIAN
METHOD:PUBLISH
X-ORIGINAL-URL:https://historicrichmond.com
X-WR-CALDESC:Events for Historic Richmond
REFRESH-INTERVAL;VALUE=DURATION:PT1H
X-Robots-Tag:noindex
X-PUBLISHED-TTL:PT1H
BEGIN:VTIMEZONE
TZID:America/New_York
BEGIN:DAYLIGHT
TZOFFSETFROM:-0500
TZOFFSETTO:-0400
TZNAME:EDT
DTSTART:20240310T070000
END:DAYLIGHT
BEGIN:STANDARD
TZOFFSETFROM:-0400
TZOFFSETTO:-0500
TZNAME:EST
DTSTART:20241103T060000
END:STANDARD
BEGIN:DAYLIGHT
TZOFFSETFROM:-0500
TZOFFSETTO:-0400
TZNAME:EDT
DTSTART:20250309T070000
END:DAYLIGHT
BEGIN:STANDARD
TZOFFSETFROM:-0400
TZOFFSETTO:-0500
TZNAME:EST
DTSTART:20251102T060000
END:STANDARD
BEGIN:DAYLIGHT
TZOFFSETFROM:-0500
TZOFFSETTO:-0400
TZNAME:EDT
DTSTART:20260308T070000
END:DAYLIGHT
BEGIN:STANDARD
TZOFFSETFROM:-0400
TZOFFSETTO:-0500
TZNAME:EST
DTSTART:20261101T060000
END:STANDARD
END:VTIMEZONE
BEGIN:VEVENT
DTSTART;TZID=America/New_York:20251113T120000
DTEND;TZID=America/New_York:20251113T130000
DTSTAMP:20260421T202953
CREATED:20250805T140307Z
LAST-MODIFIED:20251015T160924Z
UID:57027-1763035200-1763038800@historicrichmond.com
SUMMARY:Richmond: Preserving a Legacy – Virtual Lecture
DESCRIPTION:Richmond: Preserving a Legacy — Securing Richmond’s Irreplaceable Historic Architecture for Enlightenment\, Enjoyment\, and Use\n\n\n\nVirtual Lecture with Calder Loth\, Architectural Historian \n\n\n\nThursday\, November 13\, 2025 \n\n\n\nPremiere: 12:00 pm \n\n\n\n\nRegister Here\n\n\n\n\n \n\n\n\n*Registrants will receive lecture link in their confirmation e-mail. \n\n\n\nJoin us for a virtual lecture with Calder Loth\, architectural historian\, as he takes us on a visual walk through Richmond’s architectural landscape. With decades of expertise and a deep passion for preservation\, Loth will highlight many of the city’s most iconic structures\, as well as hidden gems\, and explore the historic districts and preservation tools that help shape our sense of place.  Don’t miss this opportunity to discover how Richmond’s historic structures continue to tell their stories and serve their communities for generations to come.
URL:https://historicrichmond.com/detail/richmond-preserving-a-legacy-virtual-lecture/
CATEGORIES:Lectures
ATTACH;FMTTYPE=image/jpeg:https://historicrichmond.com/wp-content/uploads/2025/07/IMG_0005.jpeg
END:VEVENT
END:VCALENDAR