BEGIN:VCALENDAR
VERSION:2.0
PRODID:-//Historic Richmond - ECPv6.15.20//NONSGML v1.0//EN
CALSCALE:GREGORIAN
METHOD:PUBLISH
X-ORIGINAL-URL:https://historicrichmond.com
X-WR-CALDESC:Events for Historic Richmond
REFRESH-INTERVAL;VALUE=DURATION:PT1H
X-Robots-Tag:noindex
X-PUBLISHED-TTL:PT1H
BEGIN:VTIMEZONE
TZID:America/New_York
BEGIN:DAYLIGHT
TZOFFSETFROM:-0500
TZOFFSETTO:-0400
TZNAME:EDT
DTSTART:20240310T070000
END:DAYLIGHT
BEGIN:STANDARD
TZOFFSETFROM:-0400
TZOFFSETTO:-0500
TZNAME:EST
DTSTART:20241103T060000
END:STANDARD
BEGIN:DAYLIGHT
TZOFFSETFROM:-0500
TZOFFSETTO:-0400
TZNAME:EDT
DTSTART:20250309T070000
END:DAYLIGHT
BEGIN:STANDARD
TZOFFSETFROM:-0400
TZOFFSETTO:-0500
TZNAME:EST
DTSTART:20251102T060000
END:STANDARD
BEGIN:DAYLIGHT
TZOFFSETFROM:-0500
TZOFFSETTO:-0400
TZNAME:EDT
DTSTART:20260308T070000
END:DAYLIGHT
BEGIN:STANDARD
TZOFFSETFROM:-0400
TZOFFSETTO:-0500
TZNAME:EST
DTSTART:20261101T060000
END:STANDARD
END:VTIMEZONE
BEGIN:VEVENT
DTSTART;TZID=America/New_York:20250515T180000
DTEND;TZID=America/New_York:20250515T200000
DTSTAMP:20260421T210302
CREATED:20250407T194550Z
LAST-MODIFIED:20250409T192343Z
UID:56630-1747332000-1747339200@historicrichmond.com
SUMMARY:Monroe Park LGBTQ+ Walking Tour
DESCRIPTION:Tour begins in Monroe Park (W Main Street and Laurel\, across from the Altria Theater) \n\n\n\nJoin us as we explore some of Virginia’s earliest sites of LGBTQ+ activism in and around Monroe Park with Blake McDonald\, architectural historian at the Department of Historic Resources. This walking tour will include the former homes of Lewis Ginter and John Pope\, Hunter Stagg\, and Mary Dallas Street\, and the first two locations of the Fan Free Clinic. Please note that this tour will be visiting different site that last year but there is no need to have attended last years tour. \n\n\n\nTickets: Join us for the Quoit Club season! Or click below to purchase a single ticket. \n\n\n\nRSVP: Reminder\, we no longer ask you to RSVP! \n\n\n\n\n\n \n\n\n\nIMPORTANT NOTES: We will start at the fountain in the center of Monroe Park. We will depart for the walking portion at 6:15. \n\n\n\nThis walking tour is about a mile\, please wear comfortable shoes! Take note of uneven sidewalks as you tour\, and dress for the weather! Hats\, water bottles\, etc. are encouraged. Any additional precautions taken due to weather will be sent via email. \n\n\n\nFood will NOT be provided prior to the walking tour\, water bottles will be available. Following the tour\, we will gather for food and drinks. \n\n\n\nPHONES: Please make sure your phones are CHARGED and consider bringing earbuds\, as our tour guide will be dialing in to a shared conference call. A dial in number and code will be provided at check in.
URL:https://historicrichmond.com/detail/monroe-park-lgbtq-walking-tour/
CATEGORIES:Quoit Club
ATTACH;FMTTYPE=image/png:https://historicrichmond.com/wp-content/uploads/2025/02/6-1.png
END:VEVENT
END:VCALENDAR