BEGIN:VCALENDAR
VERSION:2.0
PRODID:-//Historic Richmond - ECPv6.15.20//NONSGML v1.0//EN
CALSCALE:GREGORIAN
METHOD:PUBLISH
X-ORIGINAL-URL:https://historicrichmond.com
X-WR-CALDESC:Events for Historic Richmond
REFRESH-INTERVAL;VALUE=DURATION:PT1H
X-Robots-Tag:noindex
X-PUBLISHED-TTL:PT1H
BEGIN:VTIMEZONE
TZID:America/New_York
BEGIN:DAYLIGHT
TZOFFSETFROM:-0500
TZOFFSETTO:-0400
TZNAME:EDT
DTSTART:20240310T070000
END:DAYLIGHT
BEGIN:STANDARD
TZOFFSETFROM:-0400
TZOFFSETTO:-0500
TZNAME:EST
DTSTART:20241103T060000
END:STANDARD
BEGIN:DAYLIGHT
TZOFFSETFROM:-0500
TZOFFSETTO:-0400
TZNAME:EDT
DTSTART:20250309T070000
END:DAYLIGHT
BEGIN:STANDARD
TZOFFSETFROM:-0400
TZOFFSETTO:-0500
TZNAME:EST
DTSTART:20251102T060000
END:STANDARD
BEGIN:DAYLIGHT
TZOFFSETFROM:-0500
TZOFFSETTO:-0400
TZNAME:EDT
DTSTART:20260308T070000
END:DAYLIGHT
BEGIN:STANDARD
TZOFFSETFROM:-0400
TZOFFSETTO:-0500
TZNAME:EST
DTSTART:20261101T060000
END:STANDARD
END:VTIMEZONE
BEGIN:VEVENT
DTSTART;TZID=America/New_York:20251014T180000
DTEND;TZID=America/New_York:20251014T200000
DTSTAMP:20260421T133756
CREATED:20250804T192346Z
LAST-MODIFIED:20250910T192625Z
UID:56999-1760464800-1760472000@historicrichmond.com
SUMMARY:Celebrate the City Restaurant Day
DESCRIPTION:Celebrate the City!\n\n\n\nTuesday\, October 14\, 2025 \n\n\n\n \n\n\n\nThe Junior Board of Historic Richmond is hosting Celebrate the City Restaurant Day in partnership with our local restaurants and businesses. We invite our community members to dine out at participating restaurants on Tuesday of Preservation Week in support of Historic Richmond’s 90th Anniversary. \n\n\n\nAs one of the early voices for adaptive reuse in the city\, Historic Richmond created this event to showcase how historic preservation and adaptive reuse support neighborhood revitalization and contribute to Richmond’s unique sense of place. We are celebrating restaurants of all kinds – restaurants in historic buildings and neighborhoods\, beloved longtime institutions\, and places contributing to the story and character of their communities today. \n\n\n\nPlease check back here to find a list of participating restaurants. \n\n\n\nIf you are interested in being a participating restaurant\, please email Jennie Joyce\, Director of Community Outreach\, at jjoyce@historicrichmond.com or 804-643-7407. \n\n\n\nParticipating Restaurants:\n\n\n\n\n1870 Restaurant and Bar\n\n\n\nBar Solita\n\n\n\nBeaucoup\n\n\n\nDaisy’s at Tredegar\n\n\n\nGrisette\n\n\n\nJardin\n\n\n\nNew York Deli\n\n\n\nScoop\n\n\n\nStation 2\n\n\n\nTarrant’s\n\n\n\nThe Hofheimer\n\n\n\nThe Tobacco Company Restaurant
URL:https://historicrichmond.com/detail/celebrate-the-city-restaurant-day/
ATTACH;FMTTYPE=image/jpeg:https://historicrichmond.com/wp-content/uploads/2025/06/village-restaurant.jpg
END:VEVENT
BEGIN:VEVENT
DTSTART;TZID=America/New_York:20251015T173000
DTEND;TZID=America/New_York:20251015T193000
DTSTAMP:20260421T133756
CREATED:20250729T145031Z
LAST-MODIFIED:20251003T172543Z
UID:56908-1760549400-1760556600@historicrichmond.com
SUMMARY:2025 Golden Hammer Awards
DESCRIPTION:2025 Golden Hammer Awards\n\n\n\nWednesday\, October 15\, 2025 from 5:30 – 7:30 pm \n\n\n\nThe Byrd Theatre (2908 W Cary St.) \n\n\n\nTickets: $35 each \n\n\n\n\nClick Here for Tickets.\n\n\n\n\n\n\nSince 2000\, the Golden Hammer Awards have honored excellence in neighborhood revitalization projects throughout Greater Richmond. Recognizing professionals and community members improving our neighborhoods through restoration\, adaptive reuse\, new construction\, placemaking\, and historic preservation. \n\n\n\nQuestions? Reach out to info@historicrichmond.com\, we are happy to assist. \n\n\n\nSponsors:
URL:https://historicrichmond.com/detail/golden-hammer-awards/
LOCATION:The Byrd Theatre\, 2908 W Cary St\, Richmond\, VA 23221\, Richmond\, Virginia\, 23219
ATTACH;FMTTYPE=image/gif:https://historicrichmond.com/wp-content/uploads/2025/06/Golden-Hammer-square-logo-design-2025.gif
END:VEVENT
BEGIN:VEVENT
DTSTART;TZID=America/New_York:20251016T163000
DTEND;TZID=America/New_York:20251016T193000
DTSTAMP:20260421T133756
CREATED:20250805T141107Z
LAST-MODIFIED:20251015T193811Z
UID:57034-1760632200-1760643000@historicrichmond.com
SUMMARY:Architecture is Art Home Tour
DESCRIPTION:Architecture is Art Home Tour in historic Woodland Heights\n\n\n\nThursday\, October 16\, 2025 \n\n\n\n4:30 or 6:00 PM \n\n\n\nPrivate Residence in Woodland Heights (Address provided to registered guests) \n\n\n\n\nPurchase Tickets for the 4:30 PM tour here. (SOLD OUT)\n\n\n\n\n \n\n\n\n\nPurchase Tickets for the 6:00 PM tour here. (SOLD OUT)\n\n\n\n\n \n\n\n\nJoin Historic Richmond as we tour one remarkable home in Richmond’s historic Woodland Heights neighborhood where architecture and art converge in the hands of two preservation and design experts. \n\n\n\nThis 1895 raised cottage is the long-term project of Mimi Sadler and Camden Whitehead\, founders of Sadler & Whitehead Architects. Using Virginia’s historic rehabilitation tax credits\, they spent a decade restoring and reimagining a home that seamlessly blends past and present with art and architecture. Intact original spaces retain their 19th-century charm\, while salvaged materials\, clean lines\, and warm wood finishes define the much-altered rear of the house. Filling the house is their impressive collection of local art and furniture. The result is a deeply personal\, artful expression of adaptive reuse — where every detail reflects the couple’s belief that contemporary design and historic preservation can go hand-in-hand. \n\n\n\nGuests will reserve a tour time below and are invited to stay afterward for drinks\, light bites\, and conversation in the garden. There’s no better place to spend a fall afternoon than in one of Richmond’s historic neighborhoods! \n\n\n\nRegistrants will receive the address and additional details in your ticket confirmation email. To ensure the best experience for all our guests\, we kindly ask that you attend the tour time selected at the time of booking.
URL:https://historicrichmond.com/detail/architecture-is-art-home-tour/
ATTACH;FMTTYPE=image/jpeg:https://historicrichmond.com/wp-content/uploads/2025/08/mimi-and-camden-house-scaled.jpeg
END:VEVENT
BEGIN:VEVENT
DTSTART;TZID=America/New_York:20251017T183000
DTEND;TZID=America/New_York:20251017T223000
DTSTAMP:20260421T133756
CREATED:20250804T185719Z
LAST-MODIFIED:20251015T160155Z
UID:56984-1760725800-1760740200@historicrichmond.com
SUMMARY:90th Anniversary Gala
DESCRIPTION:Historic Richmond’s 90th Anniversary Gala\n\n\n\nFriday\, October 17\, 2025 from 6:30-10:30 pm \n\n\n\nThe Hippodrome Theater in historic Jackson Ward (528 N 2nd St) \n\n\n\n\nClick Here for Tickets. (SOLD OUT)\n\n\n\n\n \n\n\n\nJoin us in celebrating 90 years with a celebration at the Hippodrome Theater! This event will feature cocktails\, heavy hors d’oeuvres\, and interactive food stations followed by live music and dancing. \n\n\n\nSince 1935\, Historic Richmond has been at the heart of our city’s most transformative moments\, dedicated to preserving the unique historic places that define Richmond’s character. As we reach this milestone\, we invite you to reflect on our 90 years of transformation through preservation. \n\n\n\nAttire: Festive Formal
URL:https://historicrichmond.com/detail/90th-anniversary-gala/
ATTACH;FMTTYPE=image/png:https://historicrichmond.com/wp-content/uploads/2025/07/hipp.png
END:VEVENT
END:VCALENDAR