BEGIN:VCALENDAR
VERSION:2.0
PRODID:-//Historic Richmond - ECPv6.15.20//NONSGML v1.0//EN
CALSCALE:GREGORIAN
METHOD:PUBLISH
X-ORIGINAL-URL:https://historicrichmond.com
X-WR-CALDESC:Events for Historic Richmond
REFRESH-INTERVAL;VALUE=DURATION:PT1H
X-Robots-Tag:noindex
X-PUBLISHED-TTL:PT1H
BEGIN:VTIMEZONE
TZID:America/New_York
BEGIN:DAYLIGHT
TZOFFSETFROM:-0500
TZOFFSETTO:-0400
TZNAME:EDT
DTSTART:20250309T070000
END:DAYLIGHT
BEGIN:STANDARD
TZOFFSETFROM:-0400
TZOFFSETTO:-0500
TZNAME:EST
DTSTART:20251102T060000
END:STANDARD
BEGIN:DAYLIGHT
TZOFFSETFROM:-0500
TZOFFSETTO:-0400
TZNAME:EDT
DTSTART:20260308T070000
END:DAYLIGHT
BEGIN:STANDARD
TZOFFSETFROM:-0400
TZOFFSETTO:-0500
TZNAME:EST
DTSTART:20261101T060000
END:STANDARD
BEGIN:DAYLIGHT
TZOFFSETFROM:-0500
TZOFFSETTO:-0400
TZNAME:EDT
DTSTART:20270314T070000
END:DAYLIGHT
BEGIN:STANDARD
TZOFFSETFROM:-0400
TZOFFSETTO:-0500
TZNAME:EST
DTSTART:20271107T060000
END:STANDARD
END:VTIMEZONE
BEGIN:VEVENT
DTSTART;TZID=America/New_York:20260618T180000
DTEND;TZID=America/New_York:20260618T200000
DTSTAMP:20260421T102448
CREATED:20260310T183520Z
LAST-MODIFIED:20260331T144820Z
UID:57380-1781805600-1781812800@historicrichmond.com
SUMMARY:The Well Collective\, Branch and Co. Building
DESCRIPTION:Thursday\, June 18\, 6:00-8:00p.m. \n\n\n\nAddress – 1015 E Main Street\, Main Street Banking Historic District \n\n\n\nJoin us for a tour of The Well Collective\, located within the historic Branch & Co Building at 1015 E Main Street within the Main Street Banking Historic District. Originally constructed in 1866\, this building is one of three remaining original cast iron front buildings in Richmond. The Well Collective is a nonprofit that serves as a community-focused organization that offers a diverse set of programming for personal and community development\, while acknowledging Richmond’s unique history and its role in the broader American narrative. \n\n\n\nParking: There are multiple parking lots downtown\, as well as street parking. View an interactive map of public parking details here. \n\n\n\n\nPurchase Ticket Here\n\n\n\n\n\n\n\n\nOur 2026 Quoit Club season is generously sponsored by:
URL:https://historicrichmond.com/detail/the-well-collective-branch-and-co-building-2/
ATTACH;FMTTYPE=image/png:https://historicrichmond.com/wp-content/uploads/2026/02/5-scaled.png
END:VEVENT
END:VCALENDAR