BEGIN:VCALENDAR
VERSION:2.0
PRODID:-//Historic Richmond - ECPv6.15.20//NONSGML v1.0//EN
CALSCALE:GREGORIAN
METHOD:PUBLISH
X-WR-CALNAME:Historic Richmond
X-ORIGINAL-URL:https://historicrichmond.com
X-WR-CALDESC:Events for Historic Richmond
REFRESH-INTERVAL;VALUE=DURATION:PT1H
X-Robots-Tag:noindex
X-PUBLISHED-TTL:PT1H
BEGIN:VTIMEZONE
TZID:America/New_York
BEGIN:DAYLIGHT
TZOFFSETFROM:-0500
TZOFFSETTO:-0400
TZNAME:EDT
DTSTART:20250309T070000
END:DAYLIGHT
BEGIN:STANDARD
TZOFFSETFROM:-0400
TZOFFSETTO:-0500
TZNAME:EST
DTSTART:20251102T060000
END:STANDARD
BEGIN:DAYLIGHT
TZOFFSETFROM:-0500
TZOFFSETTO:-0400
TZNAME:EDT
DTSTART:20260308T070000
END:DAYLIGHT
BEGIN:STANDARD
TZOFFSETFROM:-0400
TZOFFSETTO:-0500
TZNAME:EST
DTSTART:20261101T060000
END:STANDARD
BEGIN:DAYLIGHT
TZOFFSETFROM:-0500
TZOFFSETTO:-0400
TZNAME:EDT
DTSTART:20270314T070000
END:DAYLIGHT
BEGIN:STANDARD
TZOFFSETFROM:-0400
TZOFFSETTO:-0500
TZNAME:EST
DTSTART:20271107T060000
END:STANDARD
END:VTIMEZONE
BEGIN:VEVENT
DTSTART;TZID=America/New_York:20260917T180000
DTEND;TZID=America/New_York:20260917T200000
DTSTAMP:20260421T144441
CREATED:20260310T184123Z
LAST-MODIFIED:20260318T192344Z
UID:57382-1789668000-1789675200@historicrichmond.com
SUMMARY:Cabin Hill – Private Residence
DESCRIPTION:Thursday\, September 17\, 6:00-8:00p.m. \n\n\n\nCabin Hill\, located on the James River\, was originally constructed circa 1910 as two log cabins and in 1964 the owners engaged renowned architect Bud Hyland to design a Mid-Century Modern addition to create a kitchen and make it a more family friendly home. The addition has his signature vertical board and batten exterior\, which true to his Frank Lloyd Wright training blended seamlessly with the cabin and natural surroundings.  New owners will discuss their plans to bring the house into the 21st century for the next generation. \n\n\n\nTickets: This event is for members only. \n\n\n\n\nMemberships are sold out!\n\n\n\n\n \n\n\n\nOur 2026 Quoit Club season is generously sponsored by:
URL:https://historicrichmond.com/detail/cabin-hill-private-residence-2/
ATTACH;FMTTYPE=image/png:https://historicrichmond.com/wp-content/uploads/2026/03/5-scaled.png
END:VEVENT
END:VCALENDAR